BEGIN:VCALENDAR
VERSION:2.0
PRODID:< http://www.open2c.de/ >
METHOD:PUBLISH
X-PUBLISHED-TTL:PT12H
BEGIN:VEVENT
CREATED:20240614T130531Z
LAST-MODIFIED:20240614T130805Z
DTSTAMP:20260421T194709Z
DTSTART:20240616T100000Z
DTEND:20240616T170000Z
CATEGORIES:Ausstellungen
SUMMARY:Tag der offenen Gartentüre u.a. bei Familie Doppler in Fernhag
DESCRIPTION:Am Sonntag\, 16. Juni findet in Oberbayern der diesjährige Tag
	 der offenen Gartentür in den Landkreisen Pfaffenhofen\, Dachau\, Fürsten
	feldbruck\, Landsberg\, Bad-Tölz-Wolfratshausen und Rosenheim statt. Am 23.
	 Juni folgt Freising\, am 30. Juni Eichstätt und Starnberg. Wie der Kreisf
	achberater des Landratsamts Pfaffenhofen Andreas Kastner mitteilt\, beteili
	gt sich in diesem Jahr die Familie Doppler mit ihrem Garten in Scheyern-F
	ernhag\, Bernhardstr. 3 b\, an der Aktion. Die offizielle Eröffnung der Ver
	anstaltung findet um 10 Uhr mit der weiteren Stellvertreterin des Landrats
	 Kerstin Schnapp im Garten der Familie Doppler statt. Von 10 bis 17 Uhr is
	t dort ein Besuch möglich. Der ländliche Hausgarten der Familie Doppler 
	reicht rund ums Haus und wartet mit einigen Besonderheiten auf: So gibt es
	 ein Hochbeet in Sternform\, eine Pflanzung mit nicht winterhartem Ziersalb
	ei\, die in ein Stauden- und Rosenbeet integriert ist\, sowie Chili- und Phy
	salispflanzen. Verschieden gestaltete Bereiche machen den Garten interessa
	nt. So findet man dort auch schattige Flächen mit entsprechender Bepflanz
	ung\, eine hübsche Pergola und Obst. Familie Dopplers Leidenschaft ist der
	 Anbau von Aronia. Am Tag der offenen Gartentür gibt es viele nützliche 
	Tipps zum Anbau dieser gesunden Pflanze\, die Nutzen und Zierde vereint. Ü
	berdies gibt es die Möglichkeit\, Gutes aus Aronia zu probieren. „Privat
	e Gärten blühen oft nur im Verborgenen. Am Tag der offenen Gartentür ha
	ben Gartenfreunde die Möglichkeit\, diese Gartenschätze selbst zu entdeck
	en und sich Anregungen für ihren eigenen Garten zu holen“\, so Andreas K
	astner. Stellvertretende Landrätin Kerstin Schnapp bedankt für die Mögl
	ichkeit einen ansonsten privaten Garten zu besuchen: „Hobbygärtner habe
	n oft ein enormes Fachwissen und ganz spezifische Fertigkeiten angesammelt
	. Mit ihrem praktischen Beispiel motivieren sie mehr als jedes Lehrbuch\, g
	rüne Oasen und Rückzugsorte zu schaffen.“ Andreas Kastner appelliert a
	n die Besucherinnen und Besucher\, sich in dem geöffneten Garten rücksich
	tsvoll zu verhalten. Er bittet darum\, auf den Gartenwegen zu bleiben und d
	ie Pflanzbeete zu schonen. „Der Garten wird auf eigene Gefahr betreten. 
	Bitte denken Sie an Ihre Aufsichtspflicht\, wenn Sie Kinder mitbringen. Kur
	ze Wartezeiten sollten in Kauf genommen werden\, da der Garten nicht für g
	rößere Besuchergruppen eingerichtet ist. Auch wird dringend gebeten\, nur
	 während der Zeiten von 10 bis 17 Uhr die Besuche einzuplanen“\, so Andr
	eas Kastner. Weitere Infos zum Tag der offenen Gartentür gibt es unter w
	ww.tag-der-offenen-gartentuer-oberbayern.de/. Aufgrund der Hochwassersitua
	tion der vergangenen Tage kann nicht gesagt werden\, ob die im oberbayernwe
	iten Programm angegebenen Gärten tatsächlich auch alle besucht werden k
	önnen. Hier sollten sich Interessierte bei den Kreisfachberatungen der je
	weiligen Landkreise informieren.    
LOCATION:Familie Doppler\nBernhardstr. 3 b\n85298 Fernhag
UID:24f4ba310a3e9f9b1296de279ab9fd8e@293d39a85f0e78018c0e5b8831a28ce3
END:VEVENT
END:VCALENDAR