BEGIN:VCALENDAR
VERSION:2.0
PRODID:< http://www.open2c.de/ >
METHOD:PUBLISH
X-PUBLISHED-TTL:PT12H
BEGIN:VEVENT
CREATED:20240622T034526Z
LAST-MODIFIED:20240622T035828Z
ORGANIZER;CN="Christine Rist\, ZBF / Aktion Lebensfreude und\nGisela Wörl\, Senionrenbeauftragte der Gemeinde Scheyern":MAILTO:Christine Rist\nTel. 0176/55425917
DTSTAMP:20260421T195241Z
DTSTART;VALUE=DATE:20240627
CATEGORIES:Verschiedenes
SUMMARY:Stammtisch Pflege und Betreuung
DESCRIPTION:Der Stammtisch Pflege und Betreuung findet monatlich statt und 
	gastiert im Juni und Juli 2024 in Scheyern.    Herzlich Willkommen sind 
	alle\, die sich über Pflege und Betreuung austauschen wollen. Angehörige\,
	 Alltagsbegleiter\, potentielle Interessierte\, Pflege bzw. Betreuungskräft
	e...... Ein Erfahrungsaustausch mit Fragen und Antworten mit der Leitung C
	hristine Rist vom Zentrum für Berufs- und Familienförderung (ZBF / Aktio
	n Lebensfreude).   Auf einen interessanten und geselligen Abend freuen si
	ch Christine Rist und Gisela Wörl (Seniorenbeauftrage der Gemeinde Scheye
	rn).    Für die Tischreservierung im neuen Café Marienkäfer wird um A
	nmeldung gebeten unter vorzimmer@scheyern.de  Besten Dank im Voraus.   
	   Organisator Christine Rist\, ZBF / Aktion Lebensfreude und Gisela Wörl
	\, Senionrenbeauftragte der Gemeinde Scheyern Kontakt Christine Rist Tel. 0
	176/55425917
LOCATION:Café Marienkäfer \nRathausplatz 2\n85298 Scheyern
UID:f0fea2f96714666962593664c766c212@293d39a85f0e78018c0e5b8831a28ce3
END:VEVENT
END:VCALENDAR