BEGIN:VCALENDAR
VERSION:2.0
PRODID:< http://www.open2c.de/ >
METHOD:PUBLISH
X-PUBLISHED-TTL:PT12H
BEGIN:VEVENT
CREATED:20240622T035131Z
LAST-MODIFIED:20240622T035651Z
ORGANIZER;CN="Christine Rist\, ZBF / Aktion Lebensfreude und\nGisela Wörl\, Senionrenbeauftragte der Gemeinde Scheyern":MAILTO:Christine Rist\nTel. 0176/55425917
DTSTAMP:20260421T194812Z
DTSTART;VALUE=DATE:20240718
CATEGORIES:Verschiedenes
SUMMARY:Stammtisch Pflege und Betreuung
DESCRIPTION:Der Stammtisch Pflege und Betreuung findet monatlich statt und 
	gastiert im Juli nochmals in Scheyern.    Herzlich Willkommen sind alle\,
	 die sich über Pflege und Betreuung austauschen wollen. Angehörige\, Allt
	agsbegleiter\, potentielle Interessierte\, Pflege bzw. Betreuungskräfte....
	.. Ein Erfahrungsaustausch mit Fragen und Antworten mit der Leitung Christ
	ine Rist vom Zentrum für Berufs- und Familienförderung (ZBF / Aktion Leb
	ensfreude).   Auf einen interessanten und geselligen Abend freuen sich Ch
	ristine Rist und Gisela Wörl (Seniorenbeauftrage der Gemeinde Scheyern).
	    Für die Tischreservierung im neuen Café Marienkäfer wird um Anmel
	dung gebeten unter vorzimmer@scheyern.de  Besten Dank im Voraus.      
	Organisator Christine Rist\, ZBF / Aktion Lebensfreude und Gisela Wörl\, Se
	nionrenbeauftragte der Gemeinde Scheyern Kontakt Christine Rist Tel. 0176/
	55425917
LOCATION:Café Marienkäfer \nRathausplatz 2\n85298 Scheyern
UID:8c829e5bc90129c9126ec3482e594dc2@293d39a85f0e78018c0e5b8831a28ce3
END:VEVENT
END:VCALENDAR