BEGIN:VCALENDAR
VERSION:2.0
PRODID:< http://www.open2c.de/ >
METHOD:PUBLISH
X-PUBLISHED-TTL:PT12H
BEGIN:VEVENT
CREATED:20240702T141515Z
LAST-MODIFIED:20240702T142207Z
ORGANIZER;CN="Gemeinde Scheyern":MAILTO:Elisabeth Kreitmeyer\nTel. 08441/806432\nEmail: vorzimmer@scheyern.de
DTSTAMP:20260421T121131Z
DTSTART;VALUE=DATE:20241015
CATEGORIES:Vorträge
SUMMARY:Klimaschutz-Stammtisch
DESCRIPTION:Liebe Klimaschutz-Freunde\,   am Dienstag\, 15. Oktober 2024 um 
	19 Uhr geht der Klimaschutz-Stammtisch in die Fortsetzung.   Im neuen ren
	ovierten Bürgersaal überhalb des Café Marienkäfers findet ein Vortrag 
	des Energieberaters Herrn Gerhard Henselmann über die "Energieeinsparopti
	onen und Sanierungsempfehlungen" statt.   Alle interessierten Bürgerinne
	n und Bürger auch weit über die Gemeindegrenzen sind hierzu herzlich wil
	lkommen.   Für Fragen steht Ihnen Frau Elisabeth Kreitmeyer\, Vorzimmer B
	ürgermeister gerne zur Verfügung.     Organisator Gemeinde Scheyern Ko
	ntakt Elisabeth Kreitmeyer Tel. 08441/806432 Email: vorzimmer@scheyern.de
LOCATION:Bürgersaal\nRathausplatz 2\n85298 Scheyern
UID:b59b238b7ae53c131700325439e92d92@293d39a85f0e78018c0e5b8831a28ce3
END:VEVENT
END:VCALENDAR