BEGIN:VCALENDAR
VERSION:2.0
PRODID:< http://www.open2c.de/ >
METHOD:PUBLISH
X-PUBLISHED-TTL:PT12H
BEGIN:VEVENT
CREATED:20240828T054136Z
LAST-MODIFIED:20240828T054736Z
DTSTAMP:20260421T120234Z
DTSTART:20241005T000000Z
DTEND:20241006T000000Z
CATEGORIES:Ausstellungen
SUMMARY:Informationskampagne „Richtungsweisend für Bayern“
DESCRIPTION:Worum geht’s? Bei den privaten Haushalten in Bayern besteht v
	iel Potenzial\, Energiekosten zu senken und insbesondere die Wärmeversorgu
	ng zu optimieren. Daher haben wir die vielen Informationen rund um energie
	effizientes Bauen und Sanieren in Bayern gebündelt. Diese werden den Bür
	gerinnen und Bürgern übersichtlich auf der Kampagnenwebseite www.richtun
	gsweisend.bayern zur Verfügung gestellt\, aber auch ganz konkret vor Ort p
	räsentiert.   Zu diesem Zweck macht eine eigens konzipierte\, bayernweite
	 Info-Tour mit einem Tiny House von März bis Oktober 2024 mit Mitmachstat
	ionen und Exponaten auf das Thema energieeffizientes Bauen und Sanieren au
	fmerksam. Unsere Tournee mit dem Tiny House hat 16 Stationen in ganz Bayer
	n – die genauen Tourdaten haben wir Ihnen unten aufgelistet.   Alle akt
	uellen Informationen finden Sie auf der Kampagnenwebseite www.richtungswei
	send.bayern und den Social-Media-Kanälen der LENK auf Facebook und Instag
	ram.   Bei Fragen zur Info-Tour und dem Termin bei Ihnen vor Ort stehen w
	ir Ihnen gerne unter der E-Mail-Adresse waermewende@lenk.bayern.de zu Verf
	ügung.     Donauwörth August bis 01. September\, 10 bis 18 Uhr im Heili
	g-Kreuz-Garten zum Ökomarkt   Rosenheim bis 15. September\, 10 bis 18 Uhr
	 auf dem Ludwigsplatz   Pfaffenhofen an der Ilm bis 06. Oktober\, 10 bis 1
	8 Uhr in der Fußgängerzone zum verkaufsoffenen Sonntag  
UID:1dc188af148db5890fb95dddf7d2333c@293d39a85f0e78018c0e5b8831a28ce3
END:VEVENT
END:VCALENDAR