BEGIN:VCALENDAR
VERSION:2.0
PRODID:< http://www.open2c.de/ >
METHOD:PUBLISH
X-PUBLISHED-TTL:PT12H
BEGIN:VEVENT
CREATED:20240917T084137Z
LAST-MODIFIED:20240917T084401Z
ORGANIZER;CN="Die Löwen Scheyern"
DTSTAMP:20260421T120830Z
DTSTART;VALUE=DATE:20241023
CATEGORIES:Verschiedenes
SUMMARY:Watt-Turnier
DESCRIPTION:     Organisator Die Löwen Scheyern
LOCATION:Vereinsheim\nHochstr. 19 d\n85298 Scheyern
UID:bb212411f49c5b985d13c43d6e722a51@293d39a85f0e78018c0e5b8831a28ce3
END:VEVENT
END:VCALENDAR