BEGIN:VCALENDAR
VERSION:2.0
PRODID:< http://www.open2c.de/ >
METHOD:PUBLISH
X-PUBLISHED-TTL:PT12H
BEGIN:VEVENT
CREATED:20241017T084746Z
LAST-MODIFIED:20250110T102327Z
ORGANIZER:MAILTO:Gemeindeverwaltung Scheyern
DTSTAMP:20260421T011043Z
DTSTART;VALUE=DATE:20250211
CATEGORIES:Sitzungen
SUMMARY:Sitzung des Gemeinderates
DESCRIPTION:  Weitere Informationen erhalten Sie unter folgendem Link: Ses
	sionNet | Bürgerportal Kontakt Gemeindeverwaltung Scheyern
LOCATION:im neuen Bürgersaal\, Rathausplatz 2 (2. OG) - derzeit leider kein barrierefreier Zugang möglich
UID:49aa54b1658477e4cdfed6e0c5e24434@293d39a85f0e78018c0e5b8831a28ce3
END:VEVENT
END:VCALENDAR