BEGIN:VCALENDAR
VERSION:2.0
PRODID:< http://www.open2c.de/ >
METHOD:PUBLISH
X-PUBLISHED-TTL:PT12H
BEGIN:VEVENT
CREATED:20241017T084910Z
LAST-MODIFIED:20250220T162604Z
ORGANIZER:MAILTO:Gemeindeverwaltung Scheyern
DTSTAMP:20260420T233254Z
DTSTART;VALUE=DATE:20250311
CATEGORIES:Sitzungen
SUMMARY:Sitzung des Gemeinderates
DESCRIPTION:  Weitere Informationen erhalten Sie unter folgendem Link: Ses
	sionNet | Bürgerportal Kontakt Gemeindeverwaltung Scheyern
LOCATION:im Trauungszimmer im Bürgerhaus\, Rathausplatz 2 (1. OG)
UID:e9aa612367700dcaeb04824f3b00babd@293d39a85f0e78018c0e5b8831a28ce3
END:VEVENT
END:VCALENDAR