BEGIN:VCALENDAR
VERSION:2.0
PRODID:< http://www.open2c.de/ >
METHOD:PUBLISH
X-PUBLISHED-TTL:PT12H
BEGIN:VEVENT
CREATED:20241017T085005Z
LAST-MODIFIED:20241017T085038Z
ORGANIZER:MAILTO:Gemeindeverwaltung Scheyern
DTSTAMP:20260420T215044Z
DTSTART;VALUE=DATE:20250408
CATEGORIES:Sitzungen
SUMMARY:Sitzung des Gemeinderates
DESCRIPTION:  Weitere Informationen erhalten Sie unter folgendem Link: Ses
	sionNet | Bürgerportal Kontakt Gemeindeverwaltung Scheyern
LOCATION:im neuen Bürgersaal\, Rathausplatz 2 (2. OG)
UID:e1588e5967b3d8921c71737aee468b0e@293d39a85f0e78018c0e5b8831a28ce3
END:VEVENT
END:VCALENDAR