BEGIN:VCALENDAR
VERSION:2.0
PRODID:< http://www.open2c.de/ >
METHOD:PUBLISH
X-PUBLISHED-TTL:PT12H
BEGIN:VEVENT
CREATED:20241017T085525Z
LAST-MODIFIED:20241017T085546Z
ORGANIZER:MAILTO:Gemeindeverwaltung Scheyern
DTSTAMP:20260420T081550Z
DTSTART;VALUE=DATE:20251111
CATEGORIES:Sitzungen
SUMMARY:Sitzung des Gemeinderates
DESCRIPTION:  Weitere Informationen erhalten Sie unter folgendem Link: Ses
	sionNet | Bürgerportal Kontakt Gemeindeverwaltung Scheyern
LOCATION:im neuen Bürgersaal\, Rathausplatz 2 (2. OG)
UID:d778c60f766b01fa542196ddeb80238c@293d39a85f0e78018c0e5b8831a28ce3
END:VEVENT
BEGIN:VEVENT
CREATED:20241017T080604Z
LAST-MODIFIED:20250110T102055Z
ORGANIZER:MAILTO:Gemeindeverwaltung Scheyern
DTSTAMP:20260420T081550Z
DTSTART;VALUE=DATE:20251124
CATEGORIES:Sitzungen
SUMMARY:Sitzung des Werk- und Vergabeausschusses
DESCRIPTION:  Weitere Informationen erhalten Sie unter folgendem Link: Ses
	sionNet | Bürgerportal Kontakt Gemeindeverwaltung Scheyern
LOCATION:Rathaus Besprechungsraum OG 12\, Rathausplatz 1
UID:4c4bfc3fc7d0e72d3e101b04f1568e04@293d39a85f0e78018c0e5b8831a28ce3
END:VEVENT
BEGIN:VEVENT
CREATED:20241017T083626Z
LAST-MODIFIED:20250110T102127Z
ORGANIZER:MAILTO:Gemeindeverwaltung Scheyern
DTSTAMP:20260420T081550Z
DTSTART;VALUE=DATE:20251125
CATEGORIES:Sitzungen
SUMMARY:Sitzung des Bau- und Umweltausschusses
DESCRIPTION:  Weitere Informationen erhalten Sie unter folgendem Link: Ses
	sionNet | Bürgerportal Kontakt Gemeindeverwaltung Scheyern
LOCATION:Rathaus Besprechungsraum OG 12\, Rathausplatz 1
UID:827563c5b4e34c1db0e08176795f4347@293d39a85f0e78018c0e5b8831a28ce3
END:VEVENT
BEGIN:VEVENT
CREATED:20251118T234326Z
LAST-MODIFIED:20251119T074421Z
ORGANIZER:MAILTO:Gemeindeverwaltung Scheyern
DTSTAMP:20260420T081550Z
DTSTART;VALUE=DATE:20251125
CATEGORIES:Sitzungen
SUMMARY:Sonder-Sitzung des Gemeinderates
DESCRIPTION:  Weitere Informationen erhalten Sie unter folgendem Link: Ses
	sionNet | Bürgerportal Kontakt Gemeindeverwaltung Scheyern
LOCATION:Trauunsgssaal\, Rathausplatz 2 (1. OG)
UID:4d8bec3546cc0d01536d499df25931ca@293d39a85f0e78018c0e5b8831a28ce3
END:VEVENT
END:VCALENDAR