BEGIN:VCALENDAR
VERSION:2.0
PRODID:< http://www.open2c.de/ >
METHOD:PUBLISH
X-PUBLISHED-TTL:PT12H
BEGIN:VEVENT
CREATED:20241104T073647Z
LAST-MODIFIED:20241104T075301Z
DTSTAMP:20260422T083618Z
DTSTART:20241109T130000Z
DTEND:20241109T180000Z
CATEGORIES:Vereine
SUMMARY:Hüpfburgfest der freiwilligen Feuerwehr
DESCRIPTION:Feuerwehr Scheyern Plöckinger Straße 6 85298 Scheyern     
	                                     
	                                     
	                                     
	                             Einladung zur Hüpfbur
	genfest am 09.11.2024     Liebe Mitbürger\,   anlässlich des 150-jähr
	igen Gründungsfests der Freiwilligen Feuerwehr Scheyern laden wir euch r
	echt herzlich zu unserem Hüpfburgenfest ein.     Wo: Grundschulturnhall
	e Scheyern\, Hochstraße 19 Wann: Samstag\, den 09.11.2024 Uhrzeit: 13 – 1
	8 Uhr   Der Eintritt ist frei. Kaffee\, Kuchen und alkoholfreie Getränke 
	gibt es vor Ort zu kaufen.   die Vorstandschaft der Freiwilligen Feuerweh
	r Scheyern Feuerwehr Scheyern Plöckinger Straße 6 85298 Scheyern     
	                                     
	                                     
	                                     
	                              
UID:e5af04f4d9082a5789393416e1cd31ab@293d39a85f0e78018c0e5b8831a28ce3
END:VEVENT
BEGIN:VEVENT
CREATED:20240918T094123Z
LAST-MODIFIED:20241002T140546Z
ORGANIZER;CN="Gemeinde Scheyern":MAILTO:vorzimmer@scheyern.de
DTSTAMP:20260422T083618Z
DTSTART;VALUE=DATE:20241121
CATEGORIES:Bürgerinformationsveranstaltung
SUMMARY:Bürgerversammlung
DESCRIPTION:Zu unserer Bürgerversammlung am   Donnerstag\, 21. November 20
	24 um 19 Uhr   sind alle Bürgerinnen und Bürger herzlich in der Kloster
	schenke (Schyren-Saal) willkommen.     Folgende Themen werden behandelt:
	 1. Rückblick des 1. Bürgermeisters Manfred Sterz auf das Jahr 2024 2. V
	orschau auf das Jahr 2025 3. Verbesserungsbeiträge Kläranlage Pfaffenhof
	en 4. Wünsche und Anträge   Schriftliche Anfragen werden erbeten an die
	 Gemeinde Scheyern\, Rathausplatz 1\, 85298 Scheyern\, per E-Mail an vorzimme
	r@scheyern.de         Organisator Gemeinde Scheyern Kontakt vorzimmer@
	scheyern.de
LOCATION:Klosterschenke Scheyern\nSchyren-Saal\nSchyrenplatz 1\n85298 Scheyern
UID:bdb59b4e7a87514302bec35137c5a2ff@293d39a85f0e78018c0e5b8831a28ce3
END:VEVENT
BEGIN:VEVENT
CREATED:20240918T152814Z
LAST-MODIFIED:20240918T153552Z
ORGANIZER;CN="Benediktinerabtei Scheyern"
DTSTAMP:20260422T083618Z
DTSTART:20241130T000000Z
DTEND:20241201T000000Z
CATEGORIES:Verschiedenes
SUMMARY:Scheyrer Christkindlmarkt
DESCRIPTION:Auch in diesem Jahr öffnet der Scheyrer Christkindlmarkt am er
	sten Adventswochenende seine Tore. Für zwei Tage zieht dann vorweihnachtl
	iche Stimmung in den Klosterhof ein. An über vierzig Buden erwartet die B
	esucher eine reiche Palette von handwerklich gefertigten Waren und kulinar
	ischen Köstlichkeiten\; Stände mit Punsch und Glühwein laden zum Verweil
	en ein. Und natürlich lässt es sich auch der hl. Nikolaus nicht nehmen\, 
	an beiden Tagen den Christkindlmarkt zu besuchen.   Öffnungszeiten: Sams
	tag\, 30.11.2024 14:00 - 20:00 Uhr Sonntag\, 01.12.2024 11:00 - 20:00 Uhr  
	     Organisator Benediktinerabtei Scheyern
LOCATION:Kloster Scheyern\nKlosterinnenhof\nSchyrenplatz 1\n85298 Scheyern
UID:649238e9ec8b89531ad625b959ab38db@293d39a85f0e78018c0e5b8831a28ce3
END:VEVENT
END:VCALENDAR