BEGIN:VCALENDAR
VERSION:2.0
PRODID:< http://www.open2c.de/ >
METHOD:PUBLISH
X-PUBLISHED-TTL:PT12H
BEGIN:VEVENT
CREATED:20241126T141402Z
LAST-MODIFIED:20241126T141429Z
ORGANIZER:MAILTO:Gemeindeverwaltung Scheyern
DTSTAMP:20260421T023915Z
DTSTART;VALUE=DATE:20241203
CATEGORIES:Sitzungen
SUMMARY:Sitzung des Gemeinderates
DESCRIPTION:  Weitere Informationen erhalten Sie unter folgendem Link: Ses
	sionNet | Bürgerportal Kontakt Gemeindeverwaltung Scheyern
LOCATION:in neuen Bürgersaal\, Rathausplatz 2 ( 2.OG)
UID:59e3450df743f10990d77252d2cf4e4b@293d39a85f0e78018c0e5b8831a28ce3
END:VEVENT
BEGIN:VEVENT
CREATED:20240108T144957Z
LAST-MODIFIED:20240930T072750Z
ORGANIZER:MAILTO:Gemeindeverwaltung Scheyern
DTSTAMP:20260421T023915Z
DTSTART;VALUE=DATE:20241210
CATEGORIES:Sitzungen
SUMMARY:Sitzung des Gemeinderates
DESCRIPTION:  Weitere Informationen erhalten Sie unter folgendem Link: Ses
	sionNet | Bürgerportal Kontakt Gemeindeverwaltung Scheyern
LOCATION:in neuen Bürgersaal\, Rathausplatz 2 ( 2.OG)
UID:d084f23169f566cf51d06bebc7c68b2f@293d39a85f0e78018c0e5b8831a28ce3
END:VEVENT
BEGIN:VEVENT
CREATED:20240109T070243Z
LAST-MODIFIED:20241011T072903Z
ORGANIZER:MAILTO:Gemeindeverwaltung Scheyern
DTSTAMP:20260421T023915Z
DTSTART;VALUE=DATE:20241217
CATEGORIES:Sitzungen
SUMMARY:Sitzung des Bau- und Umweltausschusses
DESCRIPTION:  Weitere Informationen erhalten Sie unter folgendem Link: Ses
	sionNet | Bürgerportal Kontakt Gemeindeverwaltung Scheyern
LOCATION:im neuen Bürgersaal 2.OG Rathausplatz 2
UID:aa117e222f652c6453b860eecc4db4ad@293d39a85f0e78018c0e5b8831a28ce3
END:VEVENT
END:VCALENDAR