BEGIN:VCALENDAR
VERSION:2.0
PRODID:< http://www.open2c.de/ >
METHOD:PUBLISH
X-PUBLISHED-TTL:PT12H
BEGIN:VEVENT
CREATED:20241213T105137Z
LAST-MODIFIED:20250110T101735Z
ORGANIZER:MAILTO:Gemeindeverwaltung Scheyern
DTSTAMP:20260421T025118Z
DTSTART;VALUE=DATE:20250129
CATEGORIES:Sitzungen
SUMMARY:Sitzung des Haupt- und Finanzausschusses
DESCRIPTION:  Weitere Informationen erhalten Sie unter folgendem Link: Ses
	sionNet | Bürgerportal Kontakt Gemeindeverwaltung Scheyern
LOCATION:Rathaus Besprechungsraum OG 12\, Rathausplatz 1
UID:b73fabc4920adebede21252fb904d14a@293d39a85f0e78018c0e5b8831a28ce3
END:VEVENT
END:VCALENDAR