BEGIN:VCALENDAR
VERSION:2.0
PRODID:< http://www.open2c.de/ >
METHOD:PUBLISH
X-PUBLISHED-TTL:PT12H
BEGIN:VEVENT
CREATED:20250103T092449Z
LAST-MODIFIED:20250324T084819Z
ORGANIZER;CN="Schützenverein Scheyern"
DTSTAMP:20260421T044137Z
DTSTART;VALUE=DATE:20250329
CATEGORIES:Kleinkunst
SUMMARY:Starkbierfest 2025
DESCRIPTION:       Organisator Schützenverein Scheyern
LOCATION:Wittelsbacher Saal im Kloster Scheyern
UID:081f892df1286cf8afacbd0ad6d86be7@293d39a85f0e78018c0e5b8831a28ce3
END:VEVENT
END:VCALENDAR