BEGIN:VCALENDAR
VERSION:2.0
PRODID:< http://www.open2c.de/ >
METHOD:PUBLISH
X-PUBLISHED-TTL:PT12H
BEGIN:VEVENT
CREATED:20250109T121249Z
LAST-MODIFIED:20250109T121442Z
ORGANIZER;CN="Landratsamt Pfaffenhofen"
DTSTAMP:20260421T044535Z
DTSTART:20250331T190000Z
DTEND:20250331T210000Z
CATEGORIES:Kinder
SUMMARY:Elternabend - Grenzen setzen
DESCRIPTION:     Organisator Landratsamt Pfaffenhofen
LOCATION:Pfarrkindergarten St. Martin\nSt.-Martin-Str. 1\n85298 Scheyern
UID:23b1d88a792dc3fb15a5bcf33910d65b@293d39a85f0e78018c0e5b8831a28ce3
END:VEVENT
END:VCALENDAR