BEGIN:VCALENDAR
VERSION:2.0
PRODID:< http://www.open2c.de/ >
METHOD:PUBLISH
X-PUBLISHED-TTL:PT12H
BEGIN:VEVENT
CREATED:20250115T102928Z
LAST-MODIFIED:20250115T104608Z
ORGANIZER;CN="Bündnis für Familie"
DTSTAMP:20260421T060953Z
DTSTART:20250215T100000Z
DTEND:20250215T140000Z
CATEGORIES:Vorträge
SUMMARY:Messe für soziale Berufe
DESCRIPTION: Die genauen Daten entnehmen Sie bitte dem Anhang....     Or
	ganisator Bündnis für Familie
LOCATION:Hallertau-Gymnasium Wolnzach
UID:c4ea6987397097e19ef183a01f592138@293d39a85f0e78018c0e5b8831a28ce3
END:VEVENT
END:VCALENDAR