BEGIN:VCALENDAR
VERSION:2.0
PRODID:< http://www.open2c.de/ >
METHOD:PUBLISH
X-PUBLISHED-TTL:PT12H
BEGIN:VEVENT
CREATED:20250120T085257Z
LAST-MODIFIED:20250213T163322Z
ORGANIZER;CN="Gemeinde Scheyern":MAILTO:Frau Hagl\, 08441/8064-24\, geschaeftsleitung@scheyern.de
DTSTAMP:20260421T060619Z
DTSTART;VALUE=DATE:20250219
CATEGORIES:Wahlen
SUMMARY:Wahleinweisung für die Wahlvorstände der Urnenwahllokale zur Bundestagswahl
DESCRIPTION:Organisator Gemeinde Scheyern Kontakt Frau Hagl\, 08441/8064-24\,
	 geschaeftsleitung@scheyern.de
LOCATION:Trauungszimmer\, Rathausplatz 2\, 85298 Scheyern\n1. Stock
UID:625f7613a43d40672ba3cbd9e0884c1a@293d39a85f0e78018c0e5b8831a28ce3
END:VEVENT
END:VCALENDAR