BEGIN:VCALENDAR
VERSION:2.0
PRODID:< http://www.open2c.de/ >
METHOD:PUBLISH
X-PUBLISHED-TTL:PT12H
BEGIN:VEVENT
CREATED:20250130T162305Z
LAST-MODIFIED:20250130T163259Z
ORGANIZER;CN="Kommunalunternehmen Strukturentwicklung Landkreis Pfaffenhofen a.d.Ilm (KUS)"
DTSTAMP:20260421T060700Z
DTSTART:20250212T100000Z
DTEND:20250212T113000Z
CATEGORIES:Vorträge
SUMMARY:KUS-Infoveranstaltung „Förderung für Nachhaltigkeitsprojekte“
DESCRIPTION:Nachhaltige Technologien und Innovationen spielen im aktuellen 
	Wandel von Umwelt und Gesellschaft eine entscheidende Rolle für die Zukun
	ftsfähigkeit von Unternehmen. Fördermittel auf EU-\, Bundes- und Landeseb
	ene versprechen Hilfestellung bei der finanziellen Umsetzung und Implement
	ierung. Das Kommunalunternehmen Strukturentwicklung Landkreis Pfaffenhofen
	 a.d.Ilm (KUS) informiert in Kooperation mit der Bayerischen Gesellschaft 
	für Innovation und Wissenstransfer mbH (Bayern Innovativ) am Mittwoch\, 12
	. Februar\, von 10.00 bis 11.30 Uhr zu „Förderung für Nachhaltigkeitspr
	ojekte – Wie Unternehmen von Förderprogrammen profitieren“. Die Veran
	staltung findet via zoom statt.   „Nachhaltigkeit ist für die Betriebe
	 im Landkreis ein zentrales Thema. In fast allen Branchen stehen diverse P
	rojekte auf der Agenda. Dabei müssen oft erhebliche Investitionen gestemm
	t werden“\, weiß Susanne Schmid\, zuständig für das Handlungsfeld „Na
	chhaltigkeit“ im KUS. Dabei könne man auf eine breite Palette an Unters
	tützungsangeboten und Subventionen zurückgreifen.   Neben der Vorstellu
	ng der KUS-Angebote wird ein Vertreter von Bayern Innovativ aktuelle Förd
	ermöglichkeiten beleuchten.   Eine Anmeldung unter www.kus-pfaffenhofen.
	de/anmeldung ist erforderlich. Die Einwahldaten werden nach erfolgreicher 
	Anmeldung zugeschickt. Ausführliche Informationen zu den vielseitigen Ang
	eboten unter: www.kus-pfaffenhofen.de/nachhaltigkeit.     Organisator Ko
	mmunalunternehmen Strukturentwicklung Landkreis Pfaffenhofen a.d.Ilm (KUS)
LOCATION:via zoom (online)
UID:268844ac750c5179e5542164d8b70575@293d39a85f0e78018c0e5b8831a28ce3
END:VEVENT
END:VCALENDAR