BEGIN:VCALENDAR
VERSION:2.0
PRODID:< http://www.open2c.de/ >
METHOD:PUBLISH
X-PUBLISHED-TTL:PT12H
BEGIN:VEVENT
CREATED:20250207T103813Z
LAST-MODIFIED:20250207T104237Z
ORGANIZER;CN="Jugendtreff Scheyern e.V."
DTSTAMP:20260422T160535Z
DTSTART;VALUE=DATE:20250214
CATEGORIES:Vereine
SUMMARY:Jahreshauptversammlung mit Neuwahlen des Jugendtreff Scheyern e.V.
DESCRIPTION:Für alle Mitglieder und Interessierte. Organisator Jugendtreff
	 Scheyern e.V.
LOCATION:Jugendtreff\, Hochstr. 19\, 85298 Scheyern
UID:a04e8beacc76a9e70b53d2340fcdf39a@293d39a85f0e78018c0e5b8831a28ce3
END:VEVENT
END:VCALENDAR