BEGIN:VCALENDAR
VERSION:2.0
PRODID:< http://www.open2c.de/ >
METHOD:PUBLISH
X-PUBLISHED-TTL:PT12H
BEGIN:VEVENT
CREATED:20250312T081411Z
LAST-MODIFIED:20250312T081806Z
DTSTAMP:20260421T044035Z
DTSTART:20250318T183000Z
DTEND:20250318T200000Z
CATEGORIES:Klimaschutz\, Biodiversität und erneuerbare Energien
SUMMARY:VerbraucherService Bayern: Online-Sprechstunde zur energieeffizienten Sanierung
DESCRIPTION:Wie der Sachbereich Energie und Klimaschutz am Landratsamt Pfaf
	fenhofen mitteilt\, findet am Dienstag\, 18. März von 18.30 bis 20 Uhr ein 
	Online-Vortrag zum Thema “Energieeffiziente Sanierung: Fassaden und Fens
	ter im Fokus“ statt. Der Vortrag ist kostenlos und wird von der Energieb
	eratung der Verbraucherzentrale in Kooperation mit dem VerbraucherService 
	Bayern im KDFB (VSB) angeboten.   In einem 30-minütigen Impulsvortrag er
	fahren Teilnehmerinnen und Teilnehmer alles Wichtige zur energetischen San
	ierung der Außenfassade und dem Austausch der Fenster. Referent Wolfgang 
	Kuchler zeigt\, wie man durch eine effiziente Dämmung und moderne Fenster 
	nicht nur Energie sparen\, sondern auch den Wert seiner Immobilie steigern 
	kann. Zudem werden aktuelle Förderprogramme des Bundes vorgestellt\, die e
	ine finanzielle Unterstützung für die Sanierung bieten. Im Anschluss gib
	t es die Gelegenheit\, Fragen zu stellen.   Der Vortrag richtet sich an al
	le Interessierte. Es sind keine Vorkenntnisse erforderlich. Die Teilnahme 
	ist auf 35 Personen begrenzt\, um eine persönliche und zielgerichtete Bera
	tung zu ermöglichen.   Eine Teilnahme ist unter folgendem Link möglich:
	 https://bildung.verbraucherservice-bayern.de/ &lt\;https://bildung.verbrau
	cherservice-bayern.de/&gt\;   Der VSB hilft bei allen Fragen rund um das T
	hema Energie. Sie ist je nach Beratungsangebot kostenfrei oder kostenpflic
	htig (40 Euro). Terminvereinbarung entweder beim Landratsamt unter Tel. 08
	441 27-399 oder beim VSB unter Tel. 0800-809 802 400. Die Bundesförderung
	 für Energieberatung der Verbraucherzentrale erfolgt durch das Bundesmini
	sterium für Wirtschaft und Klimaschutz. Mehr Infos gibt es unter www.verb
	raucherservice-bayern.de/themen/energie/energieberatung &lt\;http://www.ver
	braucherservice-bayern.de/themen/energie/energieberatung&gt\; .  
UID:1a8b4c8cd89cfcfdb0ccc76dc16cf973@293d39a85f0e78018c0e5b8831a28ce3
END:VEVENT
END:VCALENDAR