BEGIN:VCALENDAR
VERSION:2.0
PRODID:< http://www.open2c.de/ >
METHOD:PUBLISH
X-PUBLISHED-TTL:PT12H
BEGIN:VEVENT
CREATED:20250318T065214Z
LAST-MODIFIED:20250318T065910Z
ORGANIZER:MAILTO:Gemeindeverwaltung Scheyern
DTSTAMP:20260420T233258Z
DTSTART;VALUE=DATE:20250319
CATEGORIES:Sitzungen
SUMMARY:Sitzung des Haupt- und Finanzausschusse
DESCRIPTION:  Weitere Informationen erhalten Sie unter folgendem Link: Ses
	sionNet | Bürgerportal Kontakt Gemeindeverwaltung Scheyern
LOCATION:Rathaus Besprechungsraum OG 12\, Rathausplatz 1
UID:075f3b53db02aae91def63ba7f1ba921@293d39a85f0e78018c0e5b8831a28ce3
END:VEVENT
END:VCALENDAR