BEGIN:VCALENDAR
VERSION:2.0
PRODID:< http://www.open2c.de/ >
METHOD:PUBLISH
X-PUBLISHED-TTL:PT12H
BEGIN:VEVENT
CREATED:20250324T113100Z
LAST-MODIFIED:20250324T113513Z
DTSTAMP:20260423T175835Z
DTSTART:20250505T000000Z
DTEND:20250516T000000Z
CATEGORIES:Kinderkrippe Regenbogen
SUMMARY:Bauernhofwochen
DESCRIPTION:In diesen beiden Wochen dreht sich alles rund um den Bauernhof.
	 Die Projektwochen beinhalten Angebote für die Kinder und schließen mit 
	dem Familienausflug ab.
UID:a90a92a04ac17d9bb3709e17a1746997@293d39a85f0e78018c0e5b8831a28ce3
END:VEVENT
BEGIN:VEVENT
CREATED:20250324T113534Z
LAST-MODIFIED:20250324T113634Z
DTSTAMP:20260423T175835Z
DTSTART;VALUE=DATE:20250516
CATEGORIES:Ausflüge
SUMMARY:Familienausflug
UID:2b421f51e428a1f891edecf77c801011@293d39a85f0e78018c0e5b8831a28ce3
END:VEVENT
END:VCALENDAR