BEGIN:VCALENDAR
VERSION:2.0
PRODID:< http://www.open2c.de/ >
METHOD:PUBLISH
X-PUBLISHED-TTL:PT12H
BEGIN:VEVENT
CREATED:20250324T114019Z
LAST-MODIFIED:20250324T114238Z
DTSTAMP:20260423T162411Z
DTSTART:20250609T000000Z
DTEND:20250613T000000Z
CATEGORIES:Schließtage
SUMMARY:Pfingstschließung
DESCRIPTION:An folgenden Werktagen hat die Kindergrippe Regenbogen geschlos
	sen: Dienstag\, 10.06.2025 bis Freitag\, 13.06.2025
UID:7ee2a7180530e35806162cafb8d5e706@293d39a85f0e78018c0e5b8831a28ce3
END:VEVENT
END:VCALENDAR