BEGIN:VCALENDAR
VERSION:2.0
PRODID:< http://www.open2c.de/ >
METHOD:PUBLISH
X-PUBLISHED-TTL:PT12H
BEGIN:VEVENT
CREATED:20250328T111734Z
LAST-MODIFIED:20250328T112142Z
ORGANIZER;CN="ZSG Stegerbräu "Böllerschützen die Ruaßigen" Pfaffenhofen \n1. Böllerkommandant Selles Anton"
DTSTAMP:20260421T025144Z
DTSTART:20250405T190000Z
DTEND:20250405T193000Z
CATEGORIES:Verschiedenes
SUMMARY:Siegerehrung mit Böllerschießen in Mitterscheyern - Achtung kurzzeitig laut
DESCRIPTION:Sehr geehrte Damen und Herren\,   ich möchte sie Informieren\, 
	das am Samstag den 05.04.2025 beim Gasthaus zum Hoiß\, Mitterscheyern die 
	Siegerehrung von der Stadtschützenmeister Pfaffenhofen um 19:30 Uhr statt
	findet. Zum diesen Anlass wir ab 19:00 Uhr bis 19:30 Uhr in Abständen ca.
	 5 bis 10 Minuten Böller geschossen jeweils eine Schussfolge\, um 19:30 Uh
	r ist der letzte Schuss. Dann beginnt die Siegerehrung Polizei und Nachbar
	schaft werden informiert M.f.G. Selles Anton   Organisator ZSG Stegerbrä
	u "Böllerschützen die Ruaßigen" Pfaffenhofen 1. Böllerkommandant Selle
	s Anton
LOCATION:Gasthaus Hoiß\, Mitterscheyern
UID:5c470c30d44f0676b52be951ba6a31a7@293d39a85f0e78018c0e5b8831a28ce3
END:VEVENT
END:VCALENDAR