BEGIN:VCALENDAR
VERSION:2.0
PRODID:< http://www.open2c.de/ >
METHOD:PUBLISH
X-PUBLISHED-TTL:PT12H
BEGIN:VEVENT
CREATED:20250406T103802Z
LAST-MODIFIED:20250406T104218Z
DTSTAMP:20260421T025450Z
DTSTART;VALUE=DATE:20250410
CATEGORIES:Vereine
SUMMARY:Frühjahrstreffen der Vereine und Einrichtungen
DESCRIPTION:    
LOCATION:Café Marienkäfer\nRathausplatz 2\n85298 Scheyern
UID:4b100b1045724a2d082294be05605c2c@293d39a85f0e78018c0e5b8831a28ce3
END:VEVENT
END:VCALENDAR