BEGIN:VCALENDAR
VERSION:2.0
PRODID:< http://www.open2c.de/ >
METHOD:PUBLISH
X-PUBLISHED-TTL:PT12H
BEGIN:VEVENT
CREATED:20250411T102240Z
LAST-MODIFIED:20250411T104449Z
ORGANIZER:MAILTO:Alice Köstler-Hösl und Anna Schrag
DTSTAMP:20260420T102907Z
DTSTART;VALUE=DATE:20251113
CATEGORIES:Sitzungen
SUMMARY:Vereinstreffen und Jugendforum
DESCRIPTION:  Einladung zum Vereinstreffen und dem Jugendforum     Sehr 
	geehrte Damen und Herren\,   die Jugendbeauftragte der Gemeinde Scheyern\, 
	Frau Anna Schrag\, und die Frauenunion Scheyern laden herzlich ein zum   H
	erbsttreffen   am Donnerstag\, 13. November 2025 um 19:30 Uhr   im Dorfge
	meinschaftshaus Euernbach.   Die Einladung richtet sich an die Vertreter 
	der Vereine und Einrichtungen in der Gemeinde Scheyern.   An diesem Abend
	 geht es um den gegenseitigen Austausch und die Terminabstimmung für das 
	Jahr 2026. Bürgermeister Manfred Sterz steht als Ansprechpartner für die
	 Gemeinde zur Verfügung. Fragen und Anregungen an Alice Köstler-Hösl (T
	el. 71360) für die Frauenunion Scheyern und Anna Schrag (Tel. 18107)\, Jug
	enbeauftragte der Gemeinde.   Gerne können vorab Themenwünsche/Anliegen
	 mitgeteilt werden. Ansprechpartner sind Alice Köstler-Hösl (alice.koest
	ler-hoesl@web.de) und Anna Schrag (anna.schrag@gmx.de).   Wir freuen uns 
	auf einen interessanten Abend rund um das Ehrenamt!   Mit freundlichen Gr
	üßen     gez.   Anna Schrag                     
	                             Alice Köstler-H
	ösl                   Jugendbeauftragte          
	                            für die Frauenunion Scheyern  
	       Kontakt Alice Köstler-Hösl und Anna Schrag
LOCATION:Dorfgemeinschaftshaus Euernbach\nPfaffenhofener Str. 17\n85298 Euernbach
UID:09909b8ffe7420e65e6dff8d24ae5a8d@293d39a85f0e78018c0e5b8831a28ce3
END:VEVENT
END:VCALENDAR