BEGIN:VCALENDAR
VERSION:2.0
PRODID:< http://www.open2c.de/ >
METHOD:PUBLISH
X-PUBLISHED-TTL:PT12H
BEGIN:VEVENT
CREATED:20250415T074933Z
LAST-MODIFIED:20250508T130509Z
ORGANIZER;CN="Unternehmer an der Marienstraße"
DTSTAMP:20260420T203351Z
DTSTART:20250713T140000Z
DTEND:20250713T220000Z
CATEGORIES:Feste
SUMMARY:Straßenfest in der Marienstraße Scheyern
DESCRIPTION:Organisator Unternehmer an der Marienstraße
LOCATION:Rathausplatz
UID:96b853aff6bed8caad72995f99c17ed6@293d39a85f0e78018c0e5b8831a28ce3
END:VEVENT
END:VCALENDAR