BEGIN:VCALENDAR
VERSION:2.0
PRODID:< http://www.open2c.de/ >
METHOD:PUBLISH
X-PUBLISHED-TTL:PT12H
BEGIN:VEVENT
CREATED:20250417T130324Z
LAST-MODIFIED:20250715T063857Z
DTSTAMP:20260420T202204Z
DTSTART;VALUE=DATE:20250724
CATEGORIES:Kinder
SUMMARY:Schulung Schulweghelfer (30 Minuten)
DESCRIPTION:Am 19. Februar trafen sich die ehrenamtlichen Schulweghelfer de
	r Grundschule Scheyern mit der örtlichen Polizei\, der Schulleiterin Frau 
	Sachse und Vertretern des Elternbeirats zur Retrospektive der Aktion „G
	emeinsam für sichere Schulwege“. Die Initiative wurde im September 2024
	 ins Leben gerufen\, um die Sicherheit der Schulkinder auf ihrem täglichen
	 Weg zu verbessern. Mit großem Engagement meldeten sich 27 freiwillige He
	lferinnen und Helfer\, die seither für einen sicheren Schulweg sorgen. Nac
	h 100 Tagen Einsatz wurde Bilanz gezogen. Das Fazit: Die Aktion ist ein vo
	ller Erfolg – dank der engen Zusammenarbeit zwischen der Gemeinde Scheye
	rn\, der Polizei Pfaffenhofen\, der Grundschule Scheyern\, dem Elternbeirat u
	nd den engagierten Schulweghelfern. Bereits vor Schulbeginn setzte die Gem
	einde zahlreiche Maßnahmen zur Verbesserung der Schulwegsicherheit um. Au
	ch der Elternbeirat unterstützte aktiv bei der Organisation und Koordinat
	ion.   Neuer Schulweghelfer-Standort in MitterscheyernAm 28. März 2025
	 fand eine Begehung in Mitterscheyern statt. Herr Demmelmeier von der Gem
	einde Scheyern traf sich gemeinsam mit dem Elternbeirat vor Ort\, um sich e
	in Bild der Situation zu machen. Ergebnis: Da der Schulbus auf Höhe des B
	ushäuschens hält\, wird hier zeitnah ein Schulweghelfer eingesetzt\, um d
	ie Kinder sicher zur Bushaltestelle zu begleiten.   Helfer gesucht – Mi
	tterscheyern &amp\; BotenwegUm die Sicherheit dauerhaft zu gewährleisten\, 
	suchen wir dringend Unterstützung an zwei weiteren Standorten: Mittersche
	yern: 7:25 – 7:45 Uhr Botenweg in Scheyern: 7:25 – 7:55 Uhr Ob regel
	mäßig\, einmal im Monat oder als Springer – jede helfende Hand zählt.
	 Die Einsatzzeiten werden individuell abgestimmt. Eine 30-minütige Schulu
	ng der Helfer findet voraussichtlich am Donnerstag\, 24.07.2025 statt. 16.3
	0 Uhr - 17.00 Uhr Interesse? Dann melden Sie sich gerne unter: gs.scheyern
	.elternbeirat@gmail.com Gemeinsam sorgen wir für einen sicheren Schulweg 
	– jetzt auch in Mitterscheyern und am Botenweg!    
UID:d12b1e63da0fecf0a7e676f581dc401a@293d39a85f0e78018c0e5b8831a28ce3
END:VEVENT
END:VCALENDAR