BEGIN:VCALENDAR
VERSION:2.0
PRODID:< http://www.open2c.de/ >
METHOD:PUBLISH
X-PUBLISHED-TTL:PT12H
BEGIN:VEVENT
CREATED:20250512T071241Z
LAST-MODIFIED:20250512T082808Z
ORGANIZER;CN="Menschen mit Handicap e.V. und\nSeniorenbeauftragte Gisela Wörl"
DTSTAMP:20260420T203012Z
DTSTART:20250728T143000Z
DTEND:20250728T163000Z
CATEGORIES:Verschiedenes
SUMMARY:Spielenachmittag für Alle
DESCRIPTION:     Organisator Menschen mit Handicap e.V. und Seniorenbeauf
	tragte Gisela Wörl
LOCATION:Café Marienkäfer\nRathausplatz 2\n85298 Scheyern
UID:55ed9e8f970967d3ee3b27906c1818d9@293d39a85f0e78018c0e5b8831a28ce3
END:VEVENT
END:VCALENDAR