BEGIN:VCALENDAR
VERSION:2.0
PRODID:< http://www.open2c.de/ >
METHOD:PUBLISH
X-PUBLISHED-TTL:PT12H
BEGIN:VEVENT
CREATED:20250512T080305Z
LAST-MODIFIED:20250512T082055Z
ORGANIZER;CN="Gisela Wörl\nSeniorenbeauftragte\nGemeinde Scheyern"
DTSTAMP:20260420T203507Z
DTSTART;VALUE=DATE:20250712
CATEGORIES:Senioren
SUMMARY:Termine der Seniorennachmittage
DESCRIPTION:Mit folgendem Thema: Einladung Obst- und Gartenbauverein Organi
	sator Gisela Wörl Seniorenbeauftragte Gemeinde Scheyern
LOCATION:Im Pfarrzentrum in Scheyern\, Schyrenplatz 1\, 85298 Scheyern\nvon 14:00 Uhr bis 17:00 Uhr
UID:08e92723f4af98ac1b234be9dfb17b7c@293d39a85f0e78018c0e5b8831a28ce3
END:VEVENT
END:VCALENDAR