BEGIN:VCALENDAR
VERSION:2.0
PRODID:< http://www.open2c.de/ >
METHOD:PUBLISH
X-PUBLISHED-TTL:PT12H
BEGIN:VEVENT
CREATED:20250512T081327Z
LAST-MODIFIED:20250910T093553Z
ORGANIZER;CN="Menschen mit Handicap e.V. und\nSeniorenbeauftragte Gisela Wörl"
DTSTAMP:20260420T135519Z
DTSTART:20250922T143000Z
DTEND:20250922T163000Z
CATEGORIES:Verschiedenes
SUMMARY:Spielenachmittag für Alle
DESCRIPTION:         Organisator Menschen mit Handicap e.V. und Seniore
	nbeauftragte Gisela Wörl
LOCATION:Café Marienkäfer\nRathausplatz 2\n85298 Scheyern
UID:c7f60d7ccfa08f151196f4c9ace9d706@293d39a85f0e78018c0e5b8831a28ce3
END:VEVENT
END:VCALENDAR