BEGIN:VCALENDAR
VERSION:2.0
PRODID:< http://www.open2c.de/ >
METHOD:PUBLISH
X-PUBLISHED-TTL:PT12H
BEGIN:VEVENT
CREATED:20250512T081747Z
LAST-MODIFIED:20250512T082525Z
ORGANIZER;CN="Gisela Wörl \nSeniorenbeauftragte \nGemeinde Scheyern"
DTSTAMP:20260420T133856Z
DTSTART;VALUE=DATE:20250910
CATEGORIES:Senioren
SUMMARY:Termine der Seniorennachmittage
DESCRIPTION:Mit folgendem Thema:  Seniorenausflug Organisator Gisela Wörl
	 Seniorenbeauftragte Gemeinde Scheyern
LOCATION:Im Pfarrzentrum in Scheyern\, Schyrenplatz 1\, 85298 Scheyern\nvon 14:00 Uhr bis 17:00 Uhr
UID:94249058a9af36e1487bd88293266998@293d39a85f0e78018c0e5b8831a28ce3
END:VEVENT
END:VCALENDAR