BEGIN:VCALENDAR
VERSION:2.0
PRODID:< http://www.open2c.de/ >
METHOD:PUBLISH
X-PUBLISHED-TTL:PT12H
BEGIN:VEVENT
CREATED:20250512T082918Z
LAST-MODIFIED:20250611T092042Z
ORGANIZER;CN="Kloster Scheyern"
DTSTAMP:20260420T221600Z
DTSTART;VALUE=DATE:20250619
CATEGORIES:Feste
SUMMARY:Brauereifest
DESCRIPTION:Klosterbrauerei Scheyern lädt zum traditionellen Brauereifest 
	ein: Feiern Sie mit uns die Geschichte des Bieres und genießen Sie Schman
	kerl aus der Klostermetzgerei! Die Klosterbrauerei Scheyern feiert dieses 
	Jahr ihr 19.  Brauereifest. Schon seit dem Jahre 1119 wird im Kloster von
	 Scheyern Bier hergestellt. Damit ist die Klosterbrauerei Scheyern die dri
	ttälteste Brauerei Deutschlands und eine der ältesten Braustätten der W
	elt. Am Donnerstag\, 19. Juni 2025\, verwandelt sich der Innenhof der Klost
	erbrauerei in einen Festplatz für Liebhaber bayerischer Tradition und exz
	ellenten Bieres. Das Fest beginnt nach der feierlichen Fronleichnamsprozes
	sion und bietet ein abwechslungsreiches Programm: 8:30 Uhr: Festgottesdie
	nst in der Basilika\, gefolgt von der traditionellen Fronleichnamsprozessio
	n. Ab ca. 10:30 Uhr: Gemütliches Weißwurstessen mit den Mönchen des Klo
	ster Scheyern\, musikalisch begleitet von der Scheyrer Blaskapelle. Ab 12:3
	0 Uhr: Für internationale Unterhaltung sorgen unsere slowenischen Gäste 
	mit einer eigens angereisten Tanzgruppe und den „3 Scheinheiligen“. Ab
	 17:30 Uhr: Die Blaskapelle Steinkirchen unter der Leitung von Stefan Bach
	l spielt bis ca. 22:00 Uhr zünftige bayerisch-böhmische Blasmusik. Besuc
	her können sich auf erfrischende Biere aus der Klosterbrauerei\, köstlich
	e Spezialitäten aus der Klostermetzgerei und gute Stimmung freuen. Erlebe
	n Sie die einzigartige Atmosphäre einer Brauerei mit jahrhundertealter Ge
	schichte und feiern Sie mit uns ein Stück bayerischer Bierkultur.     O
	rganisator Kloster Scheyern
LOCATION:Festzelt vor der Klostermetzgerei
UID:c1a80f6e49fdd014f126b37c0fc9a9e6@293d39a85f0e78018c0e5b8831a28ce3
END:VEVENT
END:VCALENDAR