BEGIN:VCALENDAR
VERSION:2.0
PRODID:< http://www.open2c.de/ >
METHOD:PUBLISH
X-PUBLISHED-TTL:PT12H
BEGIN:VEVENT
CREATED:20250512T083333Z
LAST-MODIFIED:20250708T112523Z
ORGANIZER;CN="Kloster Scheyern"
DTSTAMP:20260420T204420Z
DTSTART;VALUE=DATE:20250713
CATEGORIES:Konzerte allgemein
SUMMARY:Klosterkonzerte
DESCRIPTION:Eröffnungskonzert Sommerkonzerte 2025 Cantabile Regensburg.  
	 Organisator Kloster Scheyern
LOCATION:Basilika
UID:0525f066b33c6450af04d06fe0013227@293d39a85f0e78018c0e5b8831a28ce3
END:VEVENT
END:VCALENDAR