BEGIN:VCALENDAR
VERSION:2.0
PRODID:< http://www.open2c.de/ >
METHOD:PUBLISH
X-PUBLISHED-TTL:PT12H
BEGIN:VEVENT
CREATED:20250512T083552Z
LAST-MODIFIED:20250728T063316Z
ORGANIZER;CN="Pfarrei Scheyern"
DTSTAMP:20260420T135320Z
DTSTART;VALUE=DATE:20250914
CATEGORIES:Kirche
SUMMARY:Termine Pfarrei Scheyern
DESCRIPTION: Organisator Pfarrei Scheyern
LOCATION:Klosterinnenhof
UID:57cd821cbbca27466cfe196c4920c40a@293d39a85f0e78018c0e5b8831a28ce3
END:VEVENT
END:VCALENDAR