BEGIN:VCALENDAR
VERSION:2.0
PRODID:< http://www.open2c.de/ >
METHOD:PUBLISH
X-PUBLISHED-TTL:PT12H
BEGIN:VEVENT
CREATED:20250512T083727Z
LAST-MODIFIED:20250512T083833Z
ORGANIZER;CN="Pfarrei Scheyern"
DTSTAMP:20260420T122411Z
DTSTART;VALUE=DATE:20251005
CATEGORIES:Senioren
SUMMARY:Termine Pfarrei Scheyern
DESCRIPTION:Großer Seniorennachmittag Organisator Pfarrei Scheyern
LOCATION:Pfarrzentrum
UID:99339f94bafb5e417781090d88977fee@293d39a85f0e78018c0e5b8831a28ce3
END:VEVENT
END:VCALENDAR