BEGIN:VCALENDAR
VERSION:2.0
PRODID:< http://www.open2c.de/ >
METHOD:PUBLISH
X-PUBLISHED-TTL:PT12H
BEGIN:VEVENT
CREATED:20250523T063613Z
LAST-MODIFIED:20250523T063850Z
ORGANIZER;CN="Gisela Wörl \nSeniorenbeauftragte \nGemeinde Scheyern"
DTSTAMP:20260420T221729Z
DTSTART;VALUE=DATE:20250616
CATEGORIES:Senioren
SUMMARY:Termine der Seniorennachmittage
DESCRIPTION:Mit folgendem Thema:    Aufgrund der großartigen Rückmeldun
	gen zu den unterhaltsamen Geschichten der beiden ehemaligen Bürgermeister
	 wurden sie erneut eingeladen. Freuen Sie sich auf neue\, lustige Geschicht
	en von den ehemaligen Bürgermeistern Reinhard Heinrich und Manfred Russer
	.     Organisator Gisela Wörl Seniorenbeauftragte Gemeinde Scheyern
LOCATION:Im Pfarrzentrum in Scheyern\, Schyrenplatz 1\, 85298 Scheyern\nvon 14:00 Uhr bis 17:00 Uhr
UID:b771893c4bdb793c0377ee91f6fafa80@293d39a85f0e78018c0e5b8831a28ce3
END:VEVENT
END:VCALENDAR