BEGIN:VCALENDAR
VERSION:2.0
PRODID:< http://www.open2c.de/ >
METHOD:PUBLISH
X-PUBLISHED-TTL:PT12H
BEGIN:VEVENT
CREATED:20250605T073831Z
LAST-MODIFIED:20250605T074139Z
ORGANIZER;CN="Margit Grüner"
DTSTAMP:20260420T221438Z
DTSTART:20250605T000000Z
DTEND:20250609T000000Z
CATEGORIES:Ausstellungen
SUMMARY:Ausstellung von Margit Grüner
DESCRIPTION:Die Ausstellung findet von Donnerstag\, 05.06.2025 bis einschlie
	ßlich Pfingstmontag\, 16.06.2025 jeweils von 13 – 17 Uhr im Prielhof sta
	tt.   Organisator Margit Grüner
LOCATION:Prielhof Scheyern\nEingang lt. Fr. Grüner: „da wo die schönen Hühner zu sehen sind“
UID:6d1d3d1e0e757cb504cf557937e80365@293d39a85f0e78018c0e5b8831a28ce3
END:VEVENT
END:VCALENDAR