BEGIN:VCALENDAR
VERSION:2.0
PRODID:< http://www.open2c.de/ >
METHOD:PUBLISH
X-PUBLISHED-TTL:PT12H
BEGIN:VEVENT
CREATED:20250605T080946Z
LAST-MODIFIED:20250605T081414Z
ORGANIZER;CN="Grundschule Scheyern"
DTSTAMP:20260420T221356Z
DTSTART;VALUE=DATE:20250605
CATEGORIES:Ausstellungen
SUMMARY:Planetarium "Was gibt`s im All?"
DESCRIPTION:Heute findet die Ausstellung -astronomische Grundlagen erleben-
	 Sonne\, Sterne\, Sonnensystem\, Planeten\, Galaxiendurchflüge statt. Wann: 0
	5.06.2025 um 17:00 Uhr Der Elternbeirat freut sich über Spenden.   Organ
	isator Grundschule Scheyern
LOCATION:Turnhalle der Grundschule\nHochstr. 19 a\n85298 Scheyern
UID:99b9591c8d76bebadd7427583ffe825d@293d39a85f0e78018c0e5b8831a28ce3
END:VEVENT
END:VCALENDAR