BEGIN:VCALENDAR
VERSION:2.0
PRODID:< http://www.open2c.de/ >
METHOD:PUBLISH
X-PUBLISHED-TTL:PT12H
BEGIN:VEVENT
CREATED:20250612T080014Z
LAST-MODIFIED:20250616T132947Z
ORGANIZER;CN="Bayerische Architektenkammer\nWaisenhausstr. 4\n80637 München"
DTSTAMP:20260420T221822Z
DTSTART;VALUE=DATE:20250628
CATEGORIES:Führungen
SUMMARY:Architektouren 2025
DESCRIPTION:Ab sofort können Sie die Projekte der Architektouren 2025 hie
	r abrufen und schon mal Ihre ganz persönliche Architektour für das letz
	te Juni-Wochenende planen! Am 28. und 29. Juni 2025 stehen der interessi
	erten Öffentlichkeit 197 Gebäude\, Innenräume\, Freiräume und stadtplane
	rische Lösungen für einen Blick hinter die Kulissen offen!Die Projekte w
	urden von einem unabhängigen Beirat ausgewählt und die zweitägige Veran
	staltung bietet die Gelegenheit\, mit Architektinnen und Architekten aller 
	Fachrichtungen\, ihrer Bauherrschaft sowie den Nutzerinnen und Nutzern vor 
	Ort ins Gespräch zu kommen.Das Motto lautet dieses Jahr "Vielfalt bauen"
	 Auch 2025 wurde den Teilnehmenden die Möglichkeit gegeben\, ihre KlimaKu
	lturKompetenz bei den Projekten zu zeigen. Dafür wurden fünf Nachhaltig
	keitskriterien abgefragt und geprüft: Energieeffizienz\, Klimaanpassung\, F
	lächensparen\, Barrierefreiheit und weitere Aspekte der Nachhaltigkeit. We
	lche Projekte in welchen Kriterien das Prädikat KlimaKulturKompetenz erwo
	rben haben\, können Sie ebenfalls in unserer Online-Liste sehen. Wir wü
	nschen viel Spaß beim "Online-Schmökern"! Das können Sie übrigens auch
	 im Online-PDF des Architektouren-Booklets tun!       Organisator Bay
	erische Architektenkammer Waisenhausstr. 4 80637 München
LOCATION:Rathausplatz 1\n85298 Scheyern
UID:f477bdc12cfcc58a37131acb0a8c1496@293d39a85f0e78018c0e5b8831a28ce3
END:VEVENT
END:VCALENDAR