BEGIN:VCALENDAR
VERSION:2.0
PRODID:< http://www.open2c.de/ >
METHOD:PUBLISH
X-PUBLISHED-TTL:PT12H
BEGIN:VEVENT
CREATED:20250822T060927Z
LAST-MODIFIED:20250822T061155Z
ORGANIZER;CN="Café Marienkäfer"
DTSTAMP:20260420T133953Z
DTSTART:20250928T100000Z
DTEND:20250928T160000Z
CATEGORIES:Verschiedenes
SUMMARY:Flohmarkt um den Maibaum
DESCRIPTION:     Organisator Café Marienkäfer
LOCATION:Rathausplatz\n85298 Scheyern
UID:367c37df15f31c348792689beacf7314@293d39a85f0e78018c0e5b8831a28ce3
END:VEVENT
END:VCALENDAR