BEGIN:VCALENDAR
VERSION:2.0
PRODID:< http://www.open2c.de/ >
METHOD:PUBLISH
X-PUBLISHED-TTL:PT12H
BEGIN:VEVENT
CREATED:20250822T061706Z
LAST-MODIFIED:20250822T061917Z
ORGANIZER;CN="ST Scheyern"
DTSTAMP:20260420T122254Z
DTSTART;VALUE=DATE:20251003
CATEGORIES:Sport
SUMMARY:Schyren-Lauf
DESCRIPTION:SCHYREN-LAUF 2025   3. Oktober 2025 Prielhof\, 85298 Scheyern 
	  PROGRAMM 10:00 Uhr: Beginn Rahmenprogramm11:00 Uhr: Bambini-Lauf11:15 U
	hr: Kinder-Lauf11:45 Uhr: Jugend-Lauf12:15 Uhr: Nordic-Walking-Lauf12:30 U
	hr: Fitness-Lauf13:30 Uhr: Schyren-Lauf15:30 Uhr: Siegerehrung   Weitere 
	Informationen erhalten Sie beim Veranstalter unter Teilnehmer-Infos – SC
	HYREN-LAUF     Organisator ST Scheyern
LOCATION:Prielhof Scheyern
UID:b827450a629534ffeaefb4d3049fce1d@293d39a85f0e78018c0e5b8831a28ce3
END:VEVENT
END:VCALENDAR