BEGIN:VCALENDAR
VERSION:2.0
PRODID:< http://www.open2c.de/ >
METHOD:PUBLISH
X-PUBLISHED-TTL:PT12H
BEGIN:VEVENT
CREATED:20250911T060044Z
LAST-MODIFIED:20250911T060205Z
ORGANIZER;CN="Feuerwehr Scheyern"
DTSTAMP:20260420T135336Z
DTSTART;VALUE=DATE:20250920
CATEGORIES:Kinder
SUMMARY:Kindernachmittag bei der Feuerwehr Scheyern
DESCRIPTION:     Organisator Feuerwehr Scheyern
LOCATION:Plöckinger Str. 6\n85298 Scheyern
UID:5a782a12da6b15c7095836b9d857656d@293d39a85f0e78018c0e5b8831a28ce3
END:VEVENT
END:VCALENDAR