BEGIN:VCALENDAR
VERSION:2.0
PRODID:< http://www.open2c.de/ >
METHOD:PUBLISH
X-PUBLISHED-TTL:PT12H
BEGIN:VEVENT
CREATED:20250924T080108Z
LAST-MODIFIED:20250925T072431Z
ORGANIZER;CN="Menschen mit Handicap e.V."
DTSTAMP:20260420T154423Z
DTSTART;VALUE=DATE:20251010
CATEGORIES:Vorträge
SUMMARY:Vortrag: Neurodiversität
DESCRIPTION:     Organisator Menschen mit Handicap e.V.
LOCATION:Rathausplatz 2\n85298 Scheyern
UID:8706cf10539d11a0f8ab27b79e001773@293d39a85f0e78018c0e5b8831a28ce3
END:VEVENT
END:VCALENDAR