BEGIN:VCALENDAR
VERSION:2.0
PRODID:< http://www.open2c.de/ >
METHOD:PUBLISH
X-PUBLISHED-TTL:PT12H
BEGIN:VEVENT
CREATED:20251107T115952Z
LAST-MODIFIED:20251107T120632Z
ORGANIZER;CN="Die Vorstandschaft\nder Freiwilligen Feuerwehr Scheyern"
DTSTAMP:20260422T083634Z
DTSTART:20251115T130000Z
DTEND:20251115T180000Z
CATEGORIES:Kinder
SUMMARY:Hüpfburgenfest
DESCRIPTION:Die Freiwillige Feuerwehr Scheyern lädt recht herzlich zum Hü
	pfburgenfest ein.   Wo:         Grundschulturnhalle   Wann:    Sa
	mstag\, 15.11.2025 von 13:00 bis 18:00 Uhr     Der Eintritt ist frei.   
	Kaffee\, Kuchen\, Brezn und alkoholfreie Getränke werden zum Kauf angeboten
	.     Die Vorstandschaft der Freiwilligen Feuerwehr Scheyern       Or
	ganisator Die Vorstandschaft der Freiwilligen Feuerwehr Scheyern
LOCATION:Grundschulturnhalle\nHochstr. 19 a\n85298 Scheyern
UID:ea8b5b33028243a8938448f94c988ee4@293d39a85f0e78018c0e5b8831a28ce3
END:VEVENT
END:VCALENDAR