BEGIN:VCALENDAR
VERSION:2.0
PRODID:< http://www.open2c.de/ >
METHOD:PUBLISH
X-PUBLISHED-TTL:PT12H
BEGIN:VEVENT
CREATED:20251120T125217Z
LAST-MODIFIED:20251120T131817Z
DTSTAMP:20260420T103623Z
DTSTART:20260130T143000Z
DTEND:20260130T170000Z
CATEGORIES:Kindergarten
SUMMARY:Tag der offenen Tür mit Anmeldung der Kindertageseinrichtungen
UID:e1b027939f8da1d31dc816f99e47eef8@293d39a85f0e78018c0e5b8831a28ce3
END:VEVENT
END:VCALENDAR