BEGIN:VCALENDAR
VERSION:2.0
PRODID:< http://www.open2c.de/ >
METHOD:PUBLISH
X-PUBLISHED-TTL:PT12H
BEGIN:VEVENT
CREATED:20260116T034552Z
LAST-MODIFIED:20260127T142920Z
ORGANIZER;CN="Basilikasingschule Scheyern\nHerr Martin Seidl":MAILTO:www.basilikamusik-scheyern.de
DTSTAMP:20260421T201639Z
DTSTART;VALUE=DATE:20260206
CATEGORIES:Kirche
SUMMARY:Faschingskonzert der Basilikasingschule Scheyern
DESCRIPTION:Am Freitag\, den 6. Februar\, findet um 16.00 Uhr in der Aula der
	 Mittelschule das traditionelle Faschingskonzert der Basilikasingschule Sc
	heyern statt. Die Besucher erwartet ein buntes Programm aus lustigen Liede
	rn\, Tänzen und Sketchen\, das die fast 100 Mitglieder im Alter von drei bi
	s 19 Jahren in sechs verschiedenen Untergruppen einstudiert haben. Der Ein
	tritt ist frei\, die Basilikasingschule Scheyern freut sich über Spenden f
	ür ihre verschiedenen Projekte im Jahr 2026.         Organisator Basi
	likasingschule Scheyern Herr Martin Seidl Kontakt www.basilikamusik-scheye
	rn.de
LOCATION:Aula in der Mittelschule Scheyern\nMarienstr. 29\n85298 Scheyern
UID:5a5c6c263fcc3604943ca70689d90c6e@293d39a85f0e78018c0e5b8831a28ce3
END:VEVENT
END:VCALENDAR