BEGIN:VCALENDAR
VERSION:2.0
PRODID:< http://www.open2c.de/ >
METHOD:PUBLISH
X-PUBLISHED-TTL:PT12H
BEGIN:VEVENT
CREATED:20260119T102843Z
LAST-MODIFIED:20260119T104831Z
ORGANIZER;CN="Dorfverein Euernbach"
DTSTAMP:20260421T203609Z
DTSTART;VALUE=DATE:20260228
CATEGORIES:Feste
SUMMARY:Starkbierfest in Euernbach
DESCRIPTION: Organisator Dorfverein Euernbach
LOCATION:Dorfgemeinschaftshaus Euernbach
UID:ef6a69c296f982022f9825b00a2a8e17@293d39a85f0e78018c0e5b8831a28ce3
END:VEVENT
END:VCALENDAR