BEGIN:VCALENDAR
VERSION:2.0
PRODID:< http://www.open2c.de/ >
METHOD:PUBLISH
X-PUBLISHED-TTL:PT12H
BEGIN:VEVENT
CREATED:20260226T084517Z
LAST-MODIFIED:20260304T065003Z
ORGANIZER;CN="Feuerwehr Scheyern\nImkerverein Scheyern\nSchützenverein Scheyern"
DTSTAMP:20260420T080756Z
DTSTART;VALUE=DATE:20260815
CATEGORIES:Feste
SUMMARY:Vorankündigung: Weinfest in der Ortsmitte
DESCRIPTION:Organisator Feuerwehr Scheyern Imkerverein Scheyern Schützenve
	rein Scheyern
LOCATION:Neue Ortsmitte Scheyern
UID:6b6fba410b100a507081bd6492a35c07@293d39a85f0e78018c0e5b8831a28ce3
END:VEVENT
END:VCALENDAR